BEGIN:VCALENDAR
VERSION:2.0
PRODID:-//EC4RURAL - ECPv6.8.1//NONSGML v1.0//EN
CALSCALE:GREGORIAN
METHOD:PUBLISH
X-ORIGINAL-URL:https://ec4rural.webs.uvigo.gal/gl/
X-WR-CALDESC:Events for EC4RURAL
REFRESH-INTERVAL;VALUE=DURATION:PT1H
X-Robots-Tag:noindex
X-PUBLISHED-TTL:PT1H
BEGIN:VTIMEZONE
TZID:Europe/Madrid
BEGIN:DAYLIGHT
TZOFFSETFROM:+0100
TZOFFSETTO:+0200
TZNAME:CEST
DTSTART:20240331T010000
END:DAYLIGHT
BEGIN:STANDARD
TZOFFSETFROM:+0200
TZOFFSETTO:+0100
TZNAME:CET
DTSTART:20241027T010000
END:STANDARD
END:VTIMEZONE
BEGIN:VEVENT
DTSTART;TZID=Europe/Madrid:20240711T200000
DTEND;TZID=Europe/Madrid:20240711T210000
DTSTAMP:20260422T184117
CREATED:20240710T100306Z
LAST-MODIFIED:20240710T100306Z
UID:3468-1720728000-1720731600@ec4rural.webs.uvigo.gal
SUMMARY:EC4RURAL: SEGUNDA REUNIÓN EN TOMIÑO
DESCRIPTION:O Concello de Tomiño celebrará a segunda reunión no marco do programa EC4RURAL\, orientado a promover a creación dunha Comunidade Enerxética Rural. O obxectivo central da reunión é o de establecer un grupo impulsor que encabece o desenvolvemento e a implementación da Comunidade Enerxética Rural do Concello de Tomiño. \nEspérase unha participación activa de diversos sectores da sociedade\, entre eles\, cidadanía\, asociacións veciñais\, grupos de desenvolvemento rural e pequenas empresas. A participación do Concello será especialmente destacada\, evidenciando o seu compromiso ao integrarse como parte activa da Comunidade Enerxética e mostrando disposición para ceder espazos e cubertas para as instalacións fotovoltaicas. Os temas que se abordarán transcorren dende o  autoconsumo colectivo ata o concepto de Comunidade Enerxética Renovable\, así como as súas posibles formas legais e modelos de participación público-privada.
URL:https://ec4rural.webs.uvigo.gal/gl/event/ec4rural-segunda-reunion-en-tomino/
LOCATION:Concello de Tomiño\, Salón de Plenos do Concello\, Praza do Seixo\, 1\, Tomiño\, Pontevedra\, Spain
ATTACH;FMTTYPE=image/png:https://ec4rural.webs.uvigo.gal/wp-content/uploads/2024/04/Event-EC4RURAL-Tomino.png
END:VEVENT
BEGIN:VEVENT
DTSTART;TZID=Europe/Madrid:20240513T193000
DTEND;TZID=Europe/Madrid:20240513T203000
DTSTAMP:20260422T184117
CREATED:20240425T113500Z
LAST-MODIFIED:20240425T113500Z
UID:1982-1715628600-1715632200@ec4rural.webs.uvigo.gal
SUMMARY:EC4RURAL: PRIMEIRA REUNIÓN EN SOBER
DESCRIPTION:O Concello de Sober súmase como escenario para desenvolver a primeira reunión  no marco do programa EC4RURAL\, orientado a promover a creación dunha Comunidade Enerxética Rural. O obxectivo central da reunión é o de establecer un grupo impulsor que encabece o desenvolvemento e a implementación da Comunidade Enerxética Rural do Concello de Sober. \nEspérase unha participación activa de diversos sectores da sociedade\, entre eles\, cidadanía\, asociacións veciñais\, grupos de desenvolvemento rural e pequenas empresas. A participación do Concello será especialmente destacada\, evidenciando o seu compromiso ao integrarse como parte activa da Comunidade Enerxética e mostrando disposición para ceder espazos e cubertas para as instalacións fotovoltaicas. Os temas que se abordarán transcorren dende o  autoconsumo colectivo ata o concepto de Comunidade Enerxética Renovable\, así como as súas posibles formas legais e modelos de participación público-privada.
URL:https://ec4rural.webs.uvigo.gal/gl/event/ec4rural-primeira-reunion-en-sober/
LOCATION:Concello de Sober\, Praza Campo da Feira s/n\, Sober\, Spain
ATTACH;FMTTYPE=image/png:https://ec4rural.webs.uvigo.gal/wp-content/uploads/2024/04/EC4RURAL-Sober.png
END:VEVENT
BEGIN:VEVENT
DTSTART;TZID=Europe/Madrid:20240506T120000
DTEND;TZID=Europe/Madrid:20240506T130000
DTSTAMP:20260422T184117
CREATED:20240425T112933Z
LAST-MODIFIED:20240425T112933Z
UID:1974-1714996800-1715000400@ec4rural.webs.uvigo.gal
SUMMARY:EC4RURAL: PRIMEIRA REUNIÓN EN MAZARICOS
DESCRIPTION:O Concello de Mazaricos súmase como escenario para desenvolver a primeira reunión  no marco do programa EC4RURAL\, orientado a promover a creación dunha Comunidade Enerxética Rural. O obxectivo central da reunión é o de establecer un grupo impulsor que encabece o desenvolvemento e a implementación da Comunidade Enerxética Rural do Concello de Mazaricos. \nEspérase unha participación activa de diversos sectores da sociedade\, entre eles\, cidadanía\, asociacións veciñais\, grupos de desenvolvemento rural e pequenas empresas. A participación do Concello será especialmente destacada\, evidenciando o seu compromiso ao integrarse como parte activa da Comunidade Enerxética e mostrando disposición para ceder espazos e cubertas para as instalacións fotovoltaicas. Os temas que se abordarán transcorren dende o  autoconsumo colectivo ata o concepto de Comunidade Enerxética Renovable\, así como as súas posibles formas legais e modelos de participación público-privada.
URL:https://ec4rural.webs.uvigo.gal/gl/event/ec4rural-primeira-reunion-en-mazaricos/
LOCATION:Concello de Mazaricos\, Mazaricos\, Mazaricos\, Spain
ATTACH;FMTTYPE=image/png:https://ec4rural.webs.uvigo.gal/wp-content/uploads/2024/04/EC4RURAL-Mazaricos.png
END:VEVENT
BEGIN:VEVENT
DTSTART;TZID=Europe/Madrid:20240430T190000
DTEND;TZID=Europe/Madrid:20240430T200000
DTSTAMP:20260422T184117
CREATED:20240416T123510Z
LAST-MODIFIED:20240417T124637Z
UID:1761-1714503600-1714507200@ec4rural.webs.uvigo.gal
SUMMARY:EC4RURAL: PRIMEIRA REUNIÓN EN OUROL
DESCRIPTION:O Concello de Ourol súmase como escenario para desenvolver a primeira reunión  no marco do programa EC4RURAL\, orientado a promover a creación dunha Comunidade Enerxética Rural. O obxectivo central da reunión é o de establecer un grupo impulsor que encabece o desenvolvemento e a implementación da Comunidade Enerxética Rural do Concello de Ourol. \nEspérase unha participación activa de diversos sectores da sociedade\, entre eles\, cidadanía\, asociacións veciñais\, grupos de desenvolvemento rural e pequenas empresas. A participación do Concello será especialmente destacada\, evidenciando o seu compromiso ao integrarse como parte activa da Comunidade Enerxética e mostrando disposición para ceder espazos e cubertas para as instalacións fotovoltaicas. Os temas que se abordarán transcorren dende o  autoconsumo colectivo ata o concepto de Comunidade Enerxética Renovable\, así como as súas posibles formas legais e modelos de participación público-privada.
URL:https://ec4rural.webs.uvigo.gal/gl/event/ec4rural-primeira-reunion-en-ourol/
LOCATION:Concello de Ourol\, Edificio Multiusos\, Ourol\, Spain
ATTACH;FMTTYPE=image/png:https://ec4rural.webs.uvigo.gal/wp-content/uploads/2024/04/EC4RURAL-Ourol.png
END:VEVENT
BEGIN:VEVENT
DTSTART;TZID=Europe/Madrid:20240429T200000
DTEND;TZID=Europe/Madrid:20240429T210000
DTSTAMP:20260422T184117
CREATED:20240416T103302Z
LAST-MODIFIED:20240416T103302Z
UID:1747-1714420800-1714424400@ec4rural.webs.uvigo.gal
SUMMARY:EC4RURAL: PRIMEIRA REUNIÓN EN MONTERROSO
DESCRIPTION:O Concello de Monterroso súmase como escenario para desenvolver a primeira reunión  no marco do programa EC4RURAL\, orientado a promover a creación dunha Comunidade Enerxética Rural. O obxectivo central da reunión é o de establecer un grupo impulsor que encabece o desenvolvemento e a implementación da Comunidade Enerxética Rural do Concello de Monterroso. \nEspérase unha participación activa de diversos sectores da sociedade\, entre eles\, cidadanía\, asociacións veciñais\, grupos de desenvolvemento rural e pequenas empresas. A participación do Concello será especialmente destacada\, evidenciando o seu compromiso ao integrarse como parte activa da Comunidade Enerxética e mostrando disposición para ceder espazos e cubertas para as instalacións fotovoltaicas. Os temas que se abordarán transcorren dende o  autoconsumo colectivo ata o concepto de Comunidade Enerxética Renovable\, así como as súas posibles formas legais e modelos de participación público-privada.
URL:https://ec4rural.webs.uvigo.gal/gl/event/ec4rural-primeira-reunion-en-monterroso/
LOCATION:Concello de Monterroso\, Rúa Mestre López Losada\, 5\, 27560 Monterroso\, Lugo\, Monterroso\, Spain
ATTACH;FMTTYPE=image/png:https://ec4rural.webs.uvigo.gal/wp-content/uploads/2024/04/EC4RURAL-Monterroso.png
END:VEVENT
BEGIN:VEVENT
DTSTART;TZID=Europe/Madrid:20240412T140000
DTEND;TZID=Europe/Madrid:20240412T150000
DTSTAMP:20260422T184117
CREATED:20240412T193111Z
LAST-MODIFIED:20240416T090259Z
UID:1648-1712930400-1712934000@ec4rural.webs.uvigo.gal
SUMMARY:EC4RURAL: PRIMEIRA REUNIÓN EN BECERREÁ
DESCRIPTION:O Concello de Becerreá súmase como escenario para desenvolver a primeira reunión  no marco do programa EC4RURAL\, orientado a promover a creación dunha Comunidade Enerxética Rural. O obxectivo central da reunión é o de establecer un grupo impulsor que encabece o desenvolvemento e a implementación da Comunidade Enerxética Rural do Concello de Becerreá. \nEspérase unha participación activa de diversos sectores da sociedade\, entre eles\, cidadanía\, asociacións veciñais\, grupos de desenvolvemento rural e pequenas empresas. A participación do Concello será especialmente destacada\, evidenciando o seu compromiso ao integrarse como parte activa da Comunidade Enerxética e mostrando disposición para ceder espazos e cubertas para as instalacións fotovoltaicas. Os temas que se abordarán transcorren dende o  autoconsumo colectivo ata o concepto de Comunidade Enerxética Renovable\, así como as súas posibles formas legais e modelos de participación público-privada.
URL:https://ec4rural.webs.uvigo.gal/gl/event/ec4rural-primeira-reunion-en-becerrea/
LOCATION:Concello de Becerreá\, Casa da Cultura\, Rúa Eulogio Rosón\, Becerreá\, Lugo\, Spain
ATTACH;FMTTYPE=image/png:https://ec4rural.webs.uvigo.gal/wp-content/uploads/2024/04/Evento-EC4RURAL-Becerrea.png
END:VEVENT
BEGIN:VEVENT
DTSTART;TZID=Europe/Madrid:20240405T170000
DTEND;TZID=Europe/Madrid:20240405T180000
DTSTAMP:20260422T184117
CREATED:20240412T191325Z
LAST-MODIFIED:20240416T102311Z
UID:1623-1712336400-1712340000@ec4rural.webs.uvigo.gal
SUMMARY:EC4RURAL: PRIMEIRA REUNIÓN EN AVIÓN
DESCRIPTION:O Concello de Avión súmase como escenario para desenvolver a primeira reunión  no marco do programa EC4RURAL\, orientado a promover a creación dunha Comunidade Enerxética Rural. O obxectivo central da reunión é o de establecer un grupo impulsor que encabece o desenvolvemento e a implementación da Comunidade Enerxética Rural do Concello de Avión. \nEspérase unha participación activa de diversos sectores da sociedade\, entre eles\, cidadanía\, asociacións veciñais\, grupos de desenvolvemento rural e pequenas empresas. A participación do Concello será especialmente destacada\, evidenciando o seu compromiso ao integrarse como parte activa da Comunidade Enerxética e mostrando disposición para ceder espazos e cubertas para as instalacións fotovoltaicas. Os temas que se abordarán transcorren dende o  autoconsumo colectivo ata o concepto de Comunidade Enerxética Renovable\, así como as súas posibles formas legais e modelos de participación público-privada.
URL:https://ec4rural.webs.uvigo.gal/gl/event/ec4rural-primeira-reunion-en-avion/
LOCATION:Concello de Avión\, Espazo multifuncional\, Praza do Concello s/n\, Avión\, Ourense\, Spain
ATTACH;FMTTYPE=image/png:https://ec4rural.webs.uvigo.gal/wp-content/uploads/2024/04/Evento-EC4RURAL-Avion.png
END:VEVENT
BEGIN:VEVENT
DTSTART;TZID=Europe/Madrid:20240404T190000
DTEND;TZID=Europe/Madrid:20240404T200000
DTSTAMP:20260422T184117
CREATED:20240412T185625Z
LAST-MODIFIED:20240416T102217Z
UID:1611-1712257200-1712260800@ec4rural.webs.uvigo.gal
SUMMARY:EC4RURAL: PRIMEIRA REUNIÓN EN VALADOURO
DESCRIPTION:O Concello de Valadouro súmase como escenario para desenvolver a primeira reunión  no marco do programa EC4RURAL\, orientado a promover a creación dunha Comunidade Enerxética Rural. O obxectivo central da reunión é o de establecer un grupo impulsor que encabece o desenvolvemento e a implementación da Comunidade Enerxética Rural do Concello de Valadouro. \nEspérase unha participación activa de diversos sectores da sociedade\, entre eles\, cidadanía\, asociacións veciñais\, grupos de desenvolvemento rural e pequenas empresas. A participación do Concello será especialmente destacada\, evidenciando o seu compromiso ao integrarse como parte activa da Comunidade Enerxética e mostrando disposición para ceder espazos e cubertas para as instalacións fotovoltaicas. Os temas que se abordarán transcorren dende o  autoconsumo colectivo ata o concepto de Comunidade Enerxética Renovable\, así como as súas posibles formas legais e modelos de participación público-privada.
URL:https://ec4rural.webs.uvigo.gal/gl/event/ec4rural-primeira-reunion-en-valadouro/
LOCATION:Concello de Valadouro\, Casa da Cultura\, Av. Diputación\, 6\, Valadouro\, Lugo\, Spain
ATTACH;FMTTYPE=image/png:https://ec4rural.webs.uvigo.gal/wp-content/uploads/2024/04/Evento-EC4RURAL-Valadouro.png
END:VEVENT
BEGIN:VEVENT
DTSTART;TZID=Europe/Madrid:20240326T180000
DTEND;TZID=Europe/Madrid:20240326T190000
DTSTAMP:20260422T184117
CREATED:20240412T184557Z
LAST-MODIFIED:20240416T102110Z
UID:1597-1711476000-1711479600@ec4rural.webs.uvigo.gal
SUMMARY:EC4RURAL: PRIMERA REUNIÓN EN VILASANTAR
DESCRIPTION:O Concello de Vilasantar súmase como escenario para desenvolver a primeira reunión  no marco do programa EC4RURAL\, orientado a promover a creación dunha Comunidade Enerxética Rural. O obxectivo central da reunión é o de establecer un grupo impulsor que encabece o desenvolvemento e a implementación da Comunidade Enerxética Rural do Concello de Vilasantar. \nEspérase unha participación activa de diversos sectores da sociedade\, entre eles\, cidadanía\, asociacións veciñais\, grupos de desenvolvemento rural e pequenas empresas. A participación do Concello será especialmente destacada\, evidenciando o seu compromiso ao integrarse como parte activa da Comunidade Enerxética e mostrando disposición para ceder espazos e cubertas para as instalacións fotovoltaicas. Os temas que se abordarán transcorren dende o  autoconsumo colectivo ata o concepto de Comunidade Enerxética Renovable\, así como as súas posibles formas legais e modelos de participación público-privada.
URL:https://ec4rural.webs.uvigo.gal/gl/event/ec4rural-primera-reunion-en-vilasantar/
LOCATION:Concello de Vilasantar\, Salon de Plenos do Concello\, Calle Ru\, 0 S N\,\, Vilasantar\, A Coruña\, 15807\, Spain
ATTACH;FMTTYPE=image/png:https://ec4rural.webs.uvigo.gal/wp-content/uploads/2024/04/Evento-EC4RURAL-Vilasantar.png
END:VEVENT
BEGIN:VEVENT
DTSTART;TZID=Europe/Madrid:20240325T200000
DTEND;TZID=Europe/Madrid:20240325T210000
DTSTAMP:20260422T184117
CREATED:20240411T230723Z
LAST-MODIFIED:20240416T101644Z
UID:1582-1711396800-1711400400@ec4rural.webs.uvigo.gal
SUMMARY:EC4RURAL: PRIMEIRA REUNIÓN EN SILLEDA
DESCRIPTION:O Concello de Silleda súmase como escenario para desenvolver a primeira reunión  no marco do programa EC4RURAL\, orientado a promover a creación dunha Comunidade Enerxética Rural. O obxectivo central da reunión é o de establecer un grupo impulsor que encabece o desenvolvemento e a implementación da Comunidade Enerxética Rural do Concello de Silleda. \nEspérase unha participación activa de diversos sectores da sociedade\, entre eles\, cidadanía\, asociacións veciñais\, grupos de desenvolvemento rural e pequenas empresas. A participación do Concello será especialmente destacada\, evidenciando o seu compromiso ao integrarse como parte activa da Comunidade Enerxética e mostrando disposición para ceder espazos e cubertas para as instalacións fotovoltaicas. Os temas que se abordarán transcorren dende o  autoconsumo colectivo ata o concepto de Comunidade Enerxética Renovable\, así como as súas posibles formas legais e modelos de participación público-privada.
URL:https://ec4rural.webs.uvigo.gal/gl/event/ec4rural-primeira-reunion-en-silleda/
LOCATION:Concello de Silleda\, Salón de Actos do Concello. Silleda\, Silleda\, Spain
ATTACH;FMTTYPE=image/png:https://ec4rural.webs.uvigo.gal/wp-content/uploads/2024/04/Evento-EC4RURAL-Concello-de-Silleda.png
END:VEVENT
BEGIN:VEVENT
DTSTART;TZID=Europe/Madrid:20240309T140000
DTEND;TZID=Europe/Madrid:20240309T150000
DTSTAMP:20260422T184117
CREATED:20240412T192517Z
LAST-MODIFIED:20240416T123900Z
UID:1635-1709992800-1709996400@ec4rural.webs.uvigo.gal
SUMMARY:EC4RURAL: PRIMEIRA REUNIÓN EN TOMIÑO
DESCRIPTION:O Concello de Tomiño súmase como escenario para desenvolver a primeira reunión  no marco do programa EC4RURAL\, orientado a promover a creación dunha Comunidade Enerxética Rural. O obxectivo central da reunión é o de establecer un grupo impulsor que encabece o desenvolvemento e a implementación da Comunidade Enerxética Rural do Concello de Tomiño. \nEspérase unha participación activa de diversos sectores da sociedade\, entre eles\, cidadanía\, asociacións veciñais\, grupos de desenvolvemento rural e pequenas empresas. A participación do Concello será especialmente destacada\, evidenciando o seu compromiso ao integrarse como parte activa da Comunidade Enerxética e mostrando disposición para ceder espazos e cubertas para as instalacións fotovoltaicas. Os temas que se abordarán transcorren dende o  autoconsumo colectivo ata o concepto de Comunidade Enerxética Renovable\, así como as súas posibles formas legais e modelos de participación público-privada.
URL:https://ec4rural.webs.uvigo.gal/gl/event/ec4rural-primeira-reunion-en-tomino/
LOCATION:Concello de Tomiño\, Salón de Plenos do Concello\, Praza do Seixo\, 1\, Tomiño\, Pontevedra\, Spain
ATTACH;FMTTYPE=image/png:https://ec4rural.webs.uvigo.gal/wp-content/uploads/2024/04/Evento-EC4RURAL-Tomino.png
END:VEVENT
BEGIN:VEVENT
DTSTART;TZID=Europe/Madrid:20240307T200000
DTEND;TZID=Europe/Madrid:20240307T210000
DTSTAMP:20260422T184117
CREATED:20240411T225831Z
LAST-MODIFIED:20240416T101332Z
UID:1568-1709841600-1709845200@ec4rural.webs.uvigo.gal
SUMMARY:EC4RURAL: PRIMEIRA REUNIÓN EN VEDRA
DESCRIPTION:O Concello de Vedra súmase como escenario para desenvolver a primeira reunión  no marco do programa EC4RURAL\, orientado a promover a creación dunha Comunidade Enerxética Rural. O obxectivo central da reunión é o de establecer un grupo impulsor que encabece o desenvolvemento e a implementación da Comunidade Enerxética Rural do Concello de Vedra. \nEspérase unha participación activa de diversos sectores da sociedade\, entre eles\, cidadanía\, asociacións veciñais\, grupos de desenvolvemento rural e pequenas empresas. A participación do Concello será especialmente destacada\, evidenciando o seu compromiso ao integrarse como parte activa da Comunidade Enerxética e mostrando disposición para ceder espazos e cubertas para as instalacións fotovoltaicas. Os temas que se abordarán transcorren dende o  autoconsumo colectivo ata o concepto de Comunidade Enerxética Renovable\, así como as súas posibles formas legais e modelos de participación público-privada.
URL:https://ec4rural.webs.uvigo.gal/gl/event/ec4rural-primeira-reunion-en-vedra/
LOCATION:Concello de Vedra\, Centro Sociocultural da Terceira Idade. Vedra\, Vedra\, Spain
ATTACH;FMTTYPE=image/png:https://ec4rural.webs.uvigo.gal/wp-content/uploads/2024/04/Evento-EC4RURAL-Concello-de-Vedra.png
END:VEVENT
BEGIN:VEVENT
DTSTART;TZID=Europe/Madrid:20240223T190000
DTEND;TZID=Europe/Madrid:20240223T200000
DTSTAMP:20260422T184117
CREATED:20240411T225316Z
LAST-MODIFIED:20240416T092458Z
UID:1555-1708714800-1708718400@ec4rural.webs.uvigo.gal
SUMMARY:EC4RURAL: PRIMEIRA REUNIÓN IN MOECHE
DESCRIPTION:O Concello de Moeche súmase como escenario para desenvolver a primeira reunión  no marco do programa EC4RURAL\, orientado a promover a creación dunha Comunidade Enerxética Rural. O obxectivo central da reunión é o de establecer un grupo impulsor que encabece o desenvolvemento e a implementación da Comunidade Enerxética Rural do Concello de Moeche. \nEspérase unha participación activa de diversos sectores da sociedade\, entre eles\, cidadanía\, asociacións veciñais\, grupos de desenvolvemento rural e pequenas empresas. A participación do Concello será especialmente destacada\, evidenciando o seu compromiso ao integrarse como parte activa da Comunidade Enerxética e mostrando disposición para ceder espazos e cubertas para as instalacións fotovoltaicas. Os temas que se abordarán transcorren dende o  autoconsumo colectivo ata o concepto de Comunidade Enerxética Renovable\, así como as súas posibles formas legais e modelos de participación público-privada.
URL:https://ec4rural.webs.uvigo.gal/gl/event/1555/
LOCATION:Concello de Moeche\, Centro Cultural Francisco Piñeiro. Abade\, Moeche\, Spain
ATTACH;FMTTYPE=image/png:https://ec4rural.webs.uvigo.gal/wp-content/uploads/2024/04/Evento-EC4RURAL-Concello-de-Moeche.png
END:VEVENT
BEGIN:VEVENT
DTSTART;TZID=Europe/Madrid:20240219T180000
DTEND;TZID=Europe/Madrid:20240219T190000
DTSTAMP:20260422T184117
CREATED:20240226T042159Z
LAST-MODIFIED:20240416T092611Z
UID:1542-1708365600-1708369200@ec4rural.webs.uvigo.gal
SUMMARY:EC4RURAL: PRIMEIRA REUNIÓN EN OUTES
DESCRIPTION:O Concello de Outes súmase como escenario para desenvolver a primeira reunión  no marco do programa EC4RURAL\, orientado a promover a creación dunha Comunidade Enerxética Rural. O obxectivo central da reunión é o de establecer un grupo impulsor que encabece o desenvolvemento e a implementación da Comunidade Enerxética Rural do Concello de Outes. \nEspérase unha participación activa de diversos sectores da sociedade\, entre eles\, cidadanía\, asociacións veciñais\, grupos de desenvolvemento rural e pequenas empresas. A participación do Concello será especialmente destacada\, evidenciando o seu compromiso ao integrarse como parte activa da Comunidade Enerxética e mostrando disposición para ceder espazos e cubertas para as instalacións fotovoltaicas. Os temas que se abordarán transcorren dende o  autoconsumo colectivo ata o concepto de Comunidade Enerxética Renovable\, así como as súas posibles formas legais e modelos de participación público-privada.
URL:https://ec4rural.webs.uvigo.gal/gl/event/ec4rural-primeira-reunion-en-outes/
LOCATION:Concello de Outes\, Salón de Actos Casa da Cultura\, Av. San Campio\, 1\, Outes\, Spain
ATTACH;FMTTYPE=image/png:https://ec4rural.webs.uvigo.gal/wp-content/uploads/2024/02/Evento-EC4RURAL-Concello-de-Outes.png
END:VEVENT
END:VCALENDAR