BEGIN:VCALENDAR
VERSION:2.0
PRODID:-//EC4RURAL - ECPv6.8.1//NONSGML v1.0//EN
CALSCALE:GREGORIAN
METHOD:PUBLISH
X-ORIGINAL-URL:https://ec4rural.webs.uvigo.gal/et/
X-WR-CALDESC:Events for EC4RURAL
REFRESH-INTERVAL;VALUE=DURATION:PT1H
X-Robots-Tag:noindex
X-PUBLISHED-TTL:PT1H
BEGIN:VTIMEZONE
TZID:Europe/Madrid
BEGIN:DAYLIGHT
TZOFFSETFROM:+0100
TZOFFSETTO:+0200
TZNAME:CEST
DTSTART:20240331T010000
END:DAYLIGHT
BEGIN:STANDARD
TZOFFSETFROM:+0200
TZOFFSETTO:+0100
TZNAME:CET
DTSTART:20241027T010000
END:STANDARD
END:VTIMEZONE
BEGIN:VEVENT
DTSTART;TZID=Europe/Madrid:20240307T163000
DTEND;TZID=Europe/Madrid:20240307T173000
DTSTAMP:20260422T201406
CREATED:20240418T104629Z
LAST-MODIFIED:20240418T104629Z
UID:1931-1709829000-1709832600@ec4rural.webs.uvigo.gal
SUMMARY:EC4RURAL: ESIMENE KOHTUMINE LÄÄNE-HARJU VALLAS
DESCRIPTION:Päevakavas: \n\nEC4RURAL projektitutvustus (Eesti LEADER Liit)\nKogukonnaenergeetika lahendusmudelid (Tartu Regiooni Energiaagentuur)\nKOV ülevaade omavalitsuse plaanidest taastuvenergia ja energiakogukondade valdkonnas\nEnergiaühistu kogemus esimese mikro ettevõtmisega Hiiumaal ja pakutavast vihmavarjust tekkivatele kogukondadele\, koostööst 3 huvigrupiga – kodanik\, arendaja\, KOV
URL:https://ec4rural.webs.uvigo.gal/et/event/ec4rural-esimene-kohtumine-laane-harju-vallas/
LOCATION:Lääne-Harju vald\, Padise Valitsejamajas\, Lääne-Harju vald\, Estonia
ATTACH;FMTTYPE=image/png:https://ec4rural.webs.uvigo.gal/wp-content/uploads/2024/04/Captura-de-pantalla-2024-04-18-125228.png
END:VEVENT
END:VCALENDAR