BEGIN:VCALENDAR
VERSION:2.0
PRODID:-//EC4RURAL - ECPv6.8.1//NONSGML v1.0//EN
CALSCALE:GREGORIAN
METHOD:PUBLISH
X-ORIGINAL-URL:https://ec4rural.webs.uvigo.gal/et/
X-WR-CALDESC:Events for EC4RURAL
REFRESH-INTERVAL;VALUE=DURATION:PT1H
X-Robots-Tag:noindex
X-PUBLISHED-TTL:PT1H
BEGIN:VTIMEZONE
TZID:Europe/Madrid
BEGIN:DAYLIGHT
TZOFFSETFROM:+0100
TZOFFSETTO:+0200
TZNAME:CEST
DTSTART:20240331T010000
END:DAYLIGHT
BEGIN:STANDARD
TZOFFSETFROM:+0200
TZOFFSETTO:+0100
TZNAME:CET
DTSTART:20241027T010000
END:STANDARD
END:VTIMEZONE
BEGIN:VEVENT
DTSTART;TZID=Europe/Madrid:20240807T103000
DTEND;TZID=Europe/Madrid:20240807T140000
DTSTAMP:20260422T184123
CREATED:20240710T124235Z
LAST-MODIFIED:20240710T124548Z
UID:3500-1723026600-1723039200@ec4rural.webs.uvigo.gal
SUMMARY:INSPIREERIV JA ELAMUSLIK ÜRITUS TIKUPOISS\, EESTI
DESCRIPTION:EC4RURAL projekti raames kutsume kõiki maapiirkonna energiakogukondade loomisest huvitatud inimesi osalema inspireerival ja kogemusterohkel üritusel.\nPäevakava:\n10.30 – Kogunemine ja tervituskohv.\n11:00 – 13:00 – Seminar ja arutelu:-Taavi Liivandi jagab kogemusi energiakogukonna loomise väljakutsetest ja edusammudest Hiiumaal.-Kohaliku omavalitsuse vaade energiakogukondadele (esineja täpsustamisel).-Rene Reisner (Kliimaministeerium) räägib energiakogukondade arengutest Eestis.-Paneeldiskussioon “miks meile on vaja kogukonnaenergeetikat?”Arutelu ja ideede vahetus\, et ammutada inspiratsiooni ja jagada kogemusi.\n13.00 – 13:30 – Lõunapaus (omal kulul).\n13:30 – Ringkäik Tikupoisis peremees Urmas Johansoniga. Tutvume Tikupoisi päikesepargi\, akusalvestuse võimaluste ja tuulegeneraatoriga.\nTule ja saa osa uuenduslikest ideedest ja kogemuste vahetusest\, et edendada maapiirkondade energialahendusi!\nPalun seminaril osalemine registreerida Google vormi kaudu siin: https://forms.gle/ctbSood9sPjq7zhi9
URL:https://ec4rural.webs.uvigo.gal/et/event/inspireeriv-ja-elamuslik-uritus-tikupoiss-eesti/
LOCATION:Tikupoiss\, Paiaristi\, Imavere küla\, 72401\, Estonia\, Tikupoiss\, Spain
ATTACH;FMTTYPE=image/png:https://ec4rural.webs.uvigo.gal/wp-content/uploads/2024/07/EC4RURAL_Tikupoiss-e1720615319994.png
END:VEVENT
BEGIN:VEVENT
DTSTART;TZID=Europe/Madrid:20240430T163000
DTEND;TZID=Europe/Madrid:20240430T173000
DTSTAMP:20260422T184123
CREATED:20240418T110835Z
LAST-MODIFIED:20240418T110835Z
UID:1942-1714494600-1714498200@ec4rural.webs.uvigo.gal
SUMMARY:EC4RURAL: ESIMENE KOHTUMINE ELVA VALD VALLAS
DESCRIPTION:Päevakavas: \n\nEC4RURAL projektitutvustus (Eesti LEADER Liit)\nKogukonnaenergeetika lahendusmudelid (Tartu Regiooni Energiaagentuur)\nKOV ülevaade omavalitsuse plaanidest taastuvenergia ja energiakogukondade valdkonnas\nEnergiaühistu kogemus esimese mikro ettevõtmisega Hiiumaal ja pakutavast vihmavarjust tekkivatele kogukondadele\, koostööst 3 huvigrupiga – kodanik\, arendaja\, KOV 
URL:https://ec4rural.webs.uvigo.gal/et/event/ec4rural-esimene-kohtumine-elva-vald-vallas/
LOCATION:Elva vald\, Elva Kultuurikeskuses\, Elva vald\, Estonia
ATTACH;FMTTYPE=image/jpeg:https://ec4rural.webs.uvigo.gal/wp-content/uploads/2024/04/Elva.jpg
END:VEVENT
BEGIN:VEVENT
DTSTART;TZID=Europe/Madrid:20240424T163000
DTEND;TZID=Europe/Madrid:20240424T173000
DTSTAMP:20260422T184123
CREATED:20240418T110740Z
LAST-MODIFIED:20240418T110740Z
UID:1941-1713976200-1713979800@ec4rural.webs.uvigo.gal
SUMMARY:EC4RURAL: ESIMENE KOHTUMINE RÕUGE VALD VALLAS
DESCRIPTION:Päevakavas: \n\nEC4RURAL projektitutvustus (Eesti LEADER Liit)\nKogukonnaenergeetika lahendusmudelid (Tartu Regiooni Energiaagentuur)\nKOV ülevaade omavalitsuse plaanidest taastuvenergia ja energiakogukondade valdkonnas\nEnergiaühistu kogemus esimese mikro ettevõtmisega Hiiumaal ja pakutavast vihmavarjust tekkivatele kogukondadele\, koostööst 3 huvigrupiga – kodanik\, arendaja\, KOV 
URL:https://ec4rural.webs.uvigo.gal/et/event/ec4rural-esimene-kohtumine-rouge-vald-vallas/
LOCATION:Rõuge vald\, Rõuge Rahvamajas\, Rõuge vald\, Estonia
ATTACH;FMTTYPE=image/jpeg:https://ec4rural.webs.uvigo.gal/wp-content/uploads/2024/04/Rouge.jpg
END:VEVENT
BEGIN:VEVENT
DTSTART;TZID=Europe/Madrid:20240423T163000
DTEND;TZID=Europe/Madrid:20240423T173000
DTSTAMP:20260422T184123
CREATED:20240418T110617Z
LAST-MODIFIED:20240418T110617Z
UID:1940-1713889800-1713893400@ec4rural.webs.uvigo.gal
SUMMARY:EC4RURAL: ESIMENE KOHTUMINE SAKU VALD VALLAS
DESCRIPTION:Päevakavas: \n\nEC4RURAL projektitutvustus (Eesti LEADER Liit)\nKogukonnaenergeetika lahendusmudelid (Tartu Regiooni Energiaagentuur)\nKOV ülevaade omavalitsuse plaanidest taastuvenergia ja energiakogukondade valdkonnas\nEnergiaühistu kogemus esimese mikro ettevõtmisega Hiiumaal ja pakutavast vihmavarjust tekkivatele kogukondadele\, koostööst 3 huvigrupiga – kodanik\, arendaja\, KOV 
URL:https://ec4rural.webs.uvigo.gal/et/event/ec4rural-esimene-kohtumine-saku-vald-vallas/
LOCATION:Saku vald\, Saku vallamajas\, Saku vald\, Estonia
ATTACH;FMTTYPE=image/jpeg:https://ec4rural.webs.uvigo.gal/wp-content/uploads/2024/04/Saku.jpg
END:VEVENT
BEGIN:VEVENT
DTSTART;TZID=Europe/Madrid:20240410T163000
DTEND;TZID=Europe/Madrid:20240410T173000
DTSTAMP:20260422T184123
CREATED:20240418T110506Z
LAST-MODIFIED:20240418T110506Z
UID:1939-1712766600-1712770200@ec4rural.webs.uvigo.gal
SUMMARY:EC4RURAL: ESIMENE KOHTUMINE ALUTAGUSE VALD VALLAS
DESCRIPTION:Päevakavas: \n\nEC4RURAL projektitutvustus (Eesti LEADER Liit)\nKogukonnaenergeetika lahendusmudelid (Tartu Regiooni Energiaagentuur)\nKOV ülevaade omavalitsuse plaanidest taastuvenergia ja energiakogukondade valdkonnas\nEnergiaühistu kogemus esimese mikro ettevõtmisega Hiiumaal ja pakutavast vihmavarjust tekkivatele kogukondadele\, koostööst 3 huvigrupiga – kodanik\, arendaja\, KOV 
URL:https://ec4rural.webs.uvigo.gal/et/event/ec4rural-esimene-kohtumine-alutaguse-vald-vallas/
LOCATION:Alutaguse vald\, Mäetaguse mõisas\, Alutaguse vald\, Estonia
ATTACH;FMTTYPE=image/jpeg:https://ec4rural.webs.uvigo.gal/wp-content/uploads/2024/04/Alutaguse.jpg
END:VEVENT
BEGIN:VEVENT
DTSTART;TZID=Europe/Madrid:20240409T163000
DTEND;TZID=Europe/Madrid:20240409T173000
DTSTAMP:20260422T184123
CREATED:20240418T110401Z
LAST-MODIFIED:20240418T110401Z
UID:1938-1712680200-1712683800@ec4rural.webs.uvigo.gal
SUMMARY:EC4RURAL: ESIMENE KOHTUMINE VIRU-NIGULA VALD VALLAS
DESCRIPTION:Päevakavas: \n\nEC4RURAL projektitutvustus (Eesti LEADER Liit)\nKogukonnaenergeetika lahendusmudelid (Tartu Regiooni Energiaagentuur)\nKOV ülevaade omavalitsuse plaanidest taastuvenergia ja energiakogukondade valdkonnas\nEnergiaühistu kogemus esimese mikro ettevõtmisega Hiiumaal ja pakutavast vihmavarjust tekkivatele kogukondadele\, koostööst 3 huvigrupiga – kodanik\, arendaja\, KOV 
URL:https://ec4rural.webs.uvigo.gal/et/event/ec4rural-esimene-kohtumine-viru-nigula-vald-vallas/
LOCATION:Viru-Nigula vald \, Viru-Nigula Rahvamajas\, Viru-Nigula vald \, Estonia
ATTACH;FMTTYPE=image/jpeg:https://ec4rural.webs.uvigo.gal/wp-content/uploads/2024/04/Viru.jpg
END:VEVENT
BEGIN:VEVENT
DTSTART;TZID=Europe/Madrid:20240404T163000
DTEND;TZID=Europe/Madrid:20240404T173000
DTSTAMP:20260422T184123
CREATED:20240418T110219Z
LAST-MODIFIED:20240418T110219Z
UID:1937-1712248200-1712251800@ec4rural.webs.uvigo.gal
SUMMARY:EC4RURAL: ESIMENE KOHTUMINE HIIUMAA VALD VALLAS
DESCRIPTION:Päevakavas: \n\nEC4RURAL projektitutvustus (Eesti LEADER Liit)\nKogukonnaenergeetika lahendusmudelid (Tartu Regiooni Energiaagentuur)\nKOV ülevaade omavalitsuse plaanidest taastuvenergia ja energiakogukondade valdkonnas\nEnergiaühistu kogemus esimese mikro ettevõtmisega Hiiumaal ja pakutavast vihmavarjust tekkivatele kogukondadele\, koostööst 3 huvigrupiga – kodanik\, arendaja\, KOV 
URL:https://ec4rural.webs.uvigo.gal/et/event/ec4rural-esimene-kohtumine-hiiumaa-vald-vallas/
LOCATION:Hiiumaa vald\, Kõrgessaare Vaba Aja Keskuses\, Hiiumaa vald\, Estonia
ATTACH;FMTTYPE=image/jpeg:https://ec4rural.webs.uvigo.gal/wp-content/uploads/2024/04/Hiiumaa.jpg
END:VEVENT
BEGIN:VEVENT
DTSTART;TZID=Europe/Madrid:20240402T163000
DTEND;TZID=Europe/Madrid:20240402T173000
DTSTAMP:20260422T184123
CREATED:20240418T110025Z
LAST-MODIFIED:20240418T110025Z
UID:1936-1712075400-1712079000@ec4rural.webs.uvigo.gal
SUMMARY:EC4RURAL: ESIMENE KOHTUMINE JÄRVA VALD VALLAS
DESCRIPTION:Päevakavas: \n\nEC4RURAL projektitutvustus (Eesti LEADER Liit)\nKogukonnaenergeetika lahendusmudelid (Tartu Regiooni Energiaagentuur)\nKOV ülevaade omavalitsuse plaanidest taastuvenergia ja energiakogukondade valdkonnas\nEnergiaühistu kogemus esimese mikro ettevõtmisega Hiiumaal ja pakutavast vihmavarjust tekkivatele kogukondadele\, koostööst 3 huvigrupiga – kodanik\, arendaja\, KOV 
URL:https://ec4rural.webs.uvigo.gal/et/event/ec4rural-esimene-kohtumine-jarva-vald-vallas/
LOCATION:Järva vald\, Järva vallavalitsuse Koeru teeninduskeskuses\, Järva vald\, Estonia
ATTACH;FMTTYPE=image/jpeg:https://ec4rural.webs.uvigo.gal/wp-content/uploads/2024/04/Jarva.jpg
END:VEVENT
BEGIN:VEVENT
DTSTART;TZID=Europe/Madrid:20240328T163000
DTEND;TZID=Europe/Madrid:20240328T173000
DTSTAMP:20260422T184123
CREATED:20240418T105901Z
LAST-MODIFIED:20240418T105901Z
UID:1935-1711643400-1711647000@ec4rural.webs.uvigo.gal
SUMMARY:EC4RURAL: ESIMENE KOHTUMINE PÕLTSAMAA VALD VALLAS
DESCRIPTION:Päevakavas: \n\nEC4RURAL projektitutvustus (Eesti LEADER Liit)\nKogukonnaenergeetika lahendusmudelid (Tartu Regiooni Energiaagentuur)\nKOV ülevaade omavalitsuse plaanidest taastuvenergia ja energiakogukondade valdkonnas\nEnergiaühistu kogemus esimese mikro ettevõtmisega Hiiumaal ja pakutavast vihmavarjust tekkivatele kogukondadele\, koostööst 3 huvigrupiga – kodanik\, arendaja\, KOV 
URL:https://ec4rural.webs.uvigo.gal/et/event/ec4rural-esimene-kohtumine-poltsamaa-vald-vallas/
LOCATION:Põltsamaa vald\, Põltsamaa Kultuurikeskuses\, Põltsamaa vald\, Estonia
ATTACH;FMTTYPE=image/jpeg:https://ec4rural.webs.uvigo.gal/wp-content/uploads/2024/04/Poltsamaa.jpg
END:VEVENT
BEGIN:VEVENT
DTSTART;TZID=Europe/Madrid:20240327T163000
DTEND;TZID=Europe/Madrid:20240327T173000
DTSTAMP:20260422T184123
CREATED:20240418T105708Z
LAST-MODIFIED:20240418T105708Z
UID:1934-1711557000-1711560600@ec4rural.webs.uvigo.gal
SUMMARY:EC4RURAL: ESIMENE KOHTUMINE TORI VALD VALLAS
DESCRIPTION:Päevakavas: \n\nEC4RURAL projektitutvustus (Eesti LEADER Liit)\nKogukonnaenergeetika lahendusmudelid (Tartu Regiooni Energiaagentuur)\nKOV ülevaade omavalitsuse plaanidest taastuvenergia ja energiakogukondade valdkonnas\nEnergiaühistu kogemus esimese mikro ettevõtmisega Hiiumaal ja pakutavast vihmavarjust tekkivatele kogukondadele\, koostööst 3 huvigrupiga – kodanik\, arendaja\, KOV 
URL:https://ec4rural.webs.uvigo.gal/et/event/ec4rural-esimene-kohtumine-tori-vald-vallas/
LOCATION:Tori vald\, Tori Rahvamajas\, Tori vald\, Estonia
ATTACH;FMTTYPE=image/jpeg:https://ec4rural.webs.uvigo.gal/wp-content/uploads/2024/04/Tori-1.jpg
END:VEVENT
BEGIN:VEVENT
DTSTART;TZID=Europe/Madrid:20240313T163000
DTEND;TZID=Europe/Madrid:20240313T173000
DTSTAMP:20260422T184123
CREATED:20240418T105607Z
LAST-MODIFIED:20240418T105607Z
UID:1933-1710347400-1710351000@ec4rural.webs.uvigo.gal
SUMMARY:EC4RURAL: ESIMENE KOHTUMINE TÜRI VALD VALLAS
DESCRIPTION:Päevakavas: \n\nEC4RURAL projektitutvustus (Eesti LEADER Liit)\nkogukonnaenergeetika lahendusmudelid (Tartu Regiooni Energiaagentuur)\nKOV ülevaade omavalitsuse plaanidest taastuvenergia ja energiakogukondade valdkonnas\nEnergiaühistu kogemus esimese mikro ettevõtmisega Hiiumaal ja pakutavast vihmavarjust tekkivatele kogukondadele\, koostööst 3 huvigrupiga – kodanik\, arendaja\, KOV 
URL:https://ec4rural.webs.uvigo.gal/et/event/ec4rural-esimene-kohtumine-turi-vald-vallas/
LOCATION:Türi vald\, Türi vallamajas\, Türi vald\, Estonia
ATTACH;FMTTYPE=image/jpeg:https://ec4rural.webs.uvigo.gal/wp-content/uploads/2024/04/Turi.jpg
END:VEVENT
BEGIN:VEVENT
DTSTART;TZID=Europe/Madrid:20240312T163000
DTEND;TZID=Europe/Madrid:20240312T173000
DTSTAMP:20260422T184123
CREATED:20240418T105458Z
LAST-MODIFIED:20240418T105458Z
UID:1932-1710261000-1710264600@ec4rural.webs.uvigo.gal
SUMMARY:EC4RURAL: ESIMENE KOHTUMINE VIIMSI VALD VALLAS
DESCRIPTION:Päevakavas: \n\nEC4RURAL projektitutvustus (Eesti LEADER Liit)\nKogukonnaenergeetika lahendusmudelid (Tartu Regiooni Energiaagentuur)\nKOV ülevaade omavalitsuse plaanidest taastuvenergia ja energiakogukondade valdkonnas\nEnergiaühistu kogemus esimese mikro ettevõtmisega Hiiumaal ja pakutavast vihmavarjust tekkivatele kogukondadele\, koostööst 3 huvigrupiga – kodanik\, arendaja\, KOV 
URL:https://ec4rural.webs.uvigo.gal/et/event/ec4rural-esimene-kohtumine-viimsi-vald-vallas/
LOCATION:Viimsi vald\, Viimsi vallamajas\, Viimsi vald\, Estonia
ATTACH;FMTTYPE=image/jpeg:https://ec4rural.webs.uvigo.gal/wp-content/uploads/2024/04/Viimsi.jpg
END:VEVENT
BEGIN:VEVENT
DTSTART;TZID=Europe/Madrid:20240307T163000
DTEND;TZID=Europe/Madrid:20240307T173000
DTSTAMP:20260422T184123
CREATED:20240418T104629Z
LAST-MODIFIED:20240418T104629Z
UID:1931-1709829000-1709832600@ec4rural.webs.uvigo.gal
SUMMARY:EC4RURAL: ESIMENE KOHTUMINE LÄÄNE-HARJU VALLAS
DESCRIPTION:Päevakavas: \n\nEC4RURAL projektitutvustus (Eesti LEADER Liit)\nKogukonnaenergeetika lahendusmudelid (Tartu Regiooni Energiaagentuur)\nKOV ülevaade omavalitsuse plaanidest taastuvenergia ja energiakogukondade valdkonnas\nEnergiaühistu kogemus esimese mikro ettevõtmisega Hiiumaal ja pakutavast vihmavarjust tekkivatele kogukondadele\, koostööst 3 huvigrupiga – kodanik\, arendaja\, KOV
URL:https://ec4rural.webs.uvigo.gal/et/event/ec4rural-esimene-kohtumine-laane-harju-vallas/
LOCATION:Lääne-Harju vald\, Padise Valitsejamajas\, Lääne-Harju vald\, Estonia
ATTACH;FMTTYPE=image/png:https://ec4rural.webs.uvigo.gal/wp-content/uploads/2024/04/Captura-de-pantalla-2024-04-18-125228.png
END:VEVENT
END:VCALENDAR